<?xml version="1.0" encoding="UTF-8" standalone="no"?>
<metadata xml:lang="en">
<Esri>
<CreaDate>20220608</CreaDate>
<CreaTime>14325700</CreaTime>
<ArcGISFormat>1.0</ArcGISFormat>
<SyncOnce>FALSE</SyncOnce>
<DataProperties>
<lineage>
<Process Date="20190731" Time="114427" ToolSource="c:\program files (x86)\arcgis\desktop10.7\ArcToolbox\Toolboxes\Data Management Tools.tbx\CreateMosaicDataset">CreateMosaicDataset \\centralcoast.nsw.gov.au\app\GIS\PROD\Imagery\ImageServices\Imagery_1998_WYG.gdb Imagery_1998_WYG "PROJCS['GDA_1994_MGA_Zone_56',GEOGCS['GCS_GDA_1994',DATUM['D_GDA_1994',SPHEROID['GRS_1980',6378137.0,298.257222101]],PRIMEM['Greenwich',0.0],UNIT['Degree',0.0174532925199433]],PROJECTION['Transverse_Mercator'],PARAMETER['False_Easting',500000.0],PARAMETER['False_Northing',10000000.0],PARAMETER['Central_Meridian',153.0],PARAMETER['Scale_Factor',0.9996],PARAMETER['Latitude_Of_Origin',0.0],UNIT['Meter',1.0]];-5120900 1900 10000;-100000 10000;-100000 10000;0.001;0.001;0.001;IsHighPrecision" 3 # NATURAL_COLOR_RGB "Red 630 690;Green 530 570;Blue 440 510"</Process>
<Process Date="20190731" Time="115105" ToolSource="c:\program files (x86)\arcgis\desktop10.7\ArcToolbox\Toolboxes\Data Management Tools.tbx\BuildOverviews">BuildOverviews \\centralcoast.nsw.gov.au\app\GIS\PROD\Imagery\ImageServices\Imagery_1998_WYG.gdb\Imagery_1998_WYG # DEFINE_MISSING_TILES GENERATE_OVERVIEWS GENERATE_MISSING_IMAGES REGENERATE_STALE_IMAGES</Process>
<Process Date="20190816" Time="112056" ToolSource="c:\program files (x86)\arcgis\desktop10.7\ArcToolbox\Toolboxes\Data Management Tools.tbx\CalculateStatistics">CalculateStatistics \\centralcoast.nsw.gov.au\app\GIS\PROD\Imagery\ImageServices\Imagery_1998_WYG.gdb\Imagery_1998_WYG 1 1 # OVERWRITE "Feature Set"</Process>
<Process Date="20190909" Time="150323" ToolSource="c:\program files (x86)\arcgis\desktop10.7\ArcToolbox\Toolboxes\Data Management Tools.tbx\AnalyzeMosaicDataset">AnalyzeMosaicDataset \\centralcoast.nsw.gov.au\app\GIS\PROD\Imagery\ImageServices\Imagery_1998_WYG.gdb\Imagery_1998_WYG # FOOTPRINT;FUNCTION;RASTER;PATHS</Process>
<Process Date="20190909" Time="150404" ToolSource="c:\program files (x86)\arcgis\desktop10.7\ArcToolbox\Toolboxes\Data Management Tools.tbx\AnalyzeMosaicDataset">AnalyzeMosaicDataset \\centralcoast.nsw.gov.au\app\GIS\PROD\Imagery\ImageServices\Imagery_1998_WYG.gdb\Imagery_1998_WYG # FOOTPRINT;FUNCTION;RASTER;PATHS</Process>
<Process Date="20190909" Time="150712" ToolSource="c:\program files (x86)\arcgis\desktop10.7\ArcToolbox\Toolboxes\Data Management Tools.tbx\CalculateCellSizeRanges">CalculateCellSizeRanges \\centralcoast.nsw.gov.au\app\GIS\PROD\Imagery\ImageServices\Imagery_1998_WYG.gdb\Imagery_1998_WYG # MIN_CELL_SIZES MAX_CELL_SIZES 10 0.8 UPDATE_ALL</Process>
<Process Date="20220608" Time="141943" ToolSource="c:\program files\arcgis\pro\Resources\ArcToolbox\toolboxes\Data Management Tools.tbx\CopyMultiple">CopyMultiple "\\centralcoast.nsw.gov.au\app\GIS\PROD\Imagery\ImageServices\Imagery_1998_WYG.gdb\Imagery_1998_WYG MosaicDataset" \\centralcoast.nsw.gov.au\app\GIS\PROD\Imagery\ImageServices\Imagery_1998_WYG.gdb Imagery_1998_WYG_1 "Imagery_1998_WYG MosaicDataset Imagery_1998_WYG_1 #"</Process>
<Process Date="20220608" Time="143027" ToolSource="c:\program files\arcgis\pro\Resources\ArcToolbox\toolboxes\Data Management Tools.tbx\Rename">Rename \\centralcoast.nsw.gov.au\app\GIS\PROD\Imagery\ImageServices\Imagery_1998_WYG.gdb\Imagery_1998_WYG_1 \\centralcoast.nsw.gov.au\app\GIS\PROD\Imagery\ImageServices\Imagery_1998_WYG.gdb\Imagery_1998_WYG MosaicDataset</Process>
<Process Date="20220608" Time="143212" ToolSource="c:\program files\arcgis\pro\Resources\ArcToolbox\toolboxes\Data Management Tools.tbx\Rename">Rename \\centralcoast.nsw.gov.au\app\GIS\PROD\Imagery\ImageServices\Imagery_1998_WYG.gdb\Imagery_1998_WYG \\centralcoast.nsw.gov.au\app\GIS\PROD\Imagery\ImageServices\Imagery_1998_WYG.gdb\Imagery_1998_WYG_1 MosaicDataset</Process>
<Process Date="20220608" Time="143303" ToolSource="c:\program files\arcgis\pro\Resources\ArcToolbox\toolboxes\Data Management Tools.tbx\CopyMultiple">CopyMultiple "\\centralcoast.nsw.gov.au\app\GIS\PROD\Imagery\ImageServices\Imagery_1998_WYG.gdb\Imagery_1998_WYG_1 MosaicDataset" \\centralcoast.nsw.gov.au\app\GIS\PROD\Imagery\ImageServices\Imagery_1998_WYG.gdb Imagery_1998_WYG_1_1 "Imagery_1998_WYG_1 MosaicDataset Imagery_1998_WYG_1_1 #"</Process>
<Process Date="20220608" Time="143357" ToolSource="c:\program files\arcgis\pro\Resources\ArcToolbox\toolboxes\Data Management Tools.tbx\Rename">Rename \\centralcoast.nsw.gov.au\app\GIS\PROD\Imagery\ImageServices\Imagery_1998_WYG.gdb\Imagery_1998_WYG_1_1 \\centralcoast.nsw.gov.au\app\GIS\PROD\Imagery\ImageServices\Imagery_1998_WYG.gdb\Imagery_1998_WYG MosaicDataset</Process>
</lineage>
<itemProps>
<itemName Sync="TRUE">Imagery_1998_WYG</itemName>
<itemLocation>
<linkage Sync="TRUE">file://\\centralcoast.nsw.gov.au\app\GIS\PROD\Imagery\ImageServices\Imagery_1998_WYG.gdb</linkage>
<protocol Sync="TRUE">Local Area Network</protocol>
</itemLocation>
<nativeExtBox>
<westBL Sync="TRUE">347028.934299</westBL>
<eastBL Sync="TRUE">370841.392128</eastBL>
<southBL Sync="TRUE">6301722.384137</southBL>
<northBL Sync="TRUE">6334756.453417</northBL>
<exTypeCode Sync="TRUE">1</exTypeCode>
</nativeExtBox>
</itemProps>
<coordRef>
<type Sync="TRUE">Projected</type>
<geogcsn Sync="TRUE">GCS_GDA_1994</geogcsn>
<csUnits Sync="TRUE">Linear Unit: Meter (1.000000)</csUnits>
<projcsn Sync="TRUE">GDA_1994_MGA_Zone_56</projcsn>
<peXml Sync="TRUE">&lt;ProjectedCoordinateSystem xsi:type='typens:ProjectedCoordinateSystem' xmlns:xsi='http://www.w3.org/2001/XMLSchema-instance' xmlns:xs='http://www.w3.org/2001/XMLSchema' xmlns:typens='http://www.esri.com/schemas/ArcGIS/10.7'&gt;&lt;WKT&gt;PROJCS[&amp;quot;GDA_1994_MGA_Zone_56&amp;quot;,GEOGCS[&amp;quot;GCS_GDA_1994&amp;quot;,DATUM[&amp;quot;D_GDA_1994&amp;quot;,SPHEROID[&amp;quot;GRS_1980&amp;quot;,6378137.0,298.257222101]],PRIMEM[&amp;quot;Greenwich&amp;quot;,0.0],UNIT[&amp;quot;Degree&amp;quot;,0.0174532925199433]],PROJECTION[&amp;quot;Transverse_Mercator&amp;quot;],PARAMETER[&amp;quot;False_Easting&amp;quot;,500000.0],PARAMETER[&amp;quot;False_Northing&amp;quot;,10000000.0],PARAMETER[&amp;quot;Central_Meridian&amp;quot;,153.0],PARAMETER[&amp;quot;Scale_Factor&amp;quot;,0.9996],PARAMETER[&amp;quot;Latitude_Of_Origin&amp;quot;,0.0],UNIT[&amp;quot;Meter&amp;quot;,1.0],AUTHORITY[&amp;quot;EPSG&amp;quot;,28356]]&lt;/WKT&gt;&lt;XOrigin&gt;-5120900&lt;/XOrigin&gt;&lt;YOrigin&gt;1900&lt;/YOrigin&gt;&lt;XYScale&gt;450445547.3910538&lt;/XYScale&gt;&lt;ZOrigin&gt;-100000&lt;/ZOrigin&gt;&lt;ZScale&gt;10000&lt;/ZScale&gt;&lt;MOrigin&gt;-100000&lt;/MOrigin&gt;&lt;MScale&gt;10000&lt;/MScale&gt;&lt;XYTolerance&gt;0.001&lt;/XYTolerance&gt;&lt;ZTolerance&gt;0.001&lt;/ZTolerance&gt;&lt;MTolerance&gt;0.001&lt;/MTolerance&gt;&lt;HighPrecision&gt;true&lt;/HighPrecision&gt;&lt;WKID&gt;28356&lt;/WKID&gt;&lt;LatestWKID&gt;28356&lt;/LatestWKID&gt;&lt;/ProjectedCoordinateSystem&gt;</peXml>
</coordRef>
<RasterProperties>
<General>
<PixelDepth Sync="TRUE">8</PixelDepth>
<HasColormap Sync="TRUE">FALSE</HasColormap>
<CompressionType Sync="TRUE">None</CompressionType>
<NumBands Sync="TRUE">3</NumBands>
<Format Sync="TRUE">AMD</Format>
<HasPyramids Sync="TRUE">TRUE</HasPyramids>
<SourceType Sync="TRUE">continuous</SourceType>
<PixelType Sync="TRUE">unsigned integer</PixelType>
<NoDataValue Sync="TRUE"/>
</General>
<Properties>
<MaxImageHeight Sync="TRUE">4100</MaxImageHeight>
<MaxImageWidth Sync="TRUE">15000</MaxImageWidth>
<MaxRecordCount Sync="TRUE">1000</MaxRecordCount>
<MaxDownloadImageCount Sync="TRUE">20</MaxDownloadImageCount>
<MaxDownloadSizeLimit Sync="TRUE">2048</MaxDownloadSizeLimit>
<MaxMosaicImageCount Sync="TRUE">20</MaxMosaicImageCount>
<DefaultCompressionQuality Sync="TRUE">75</DefaultCompressionQuality>
<DefaultCompressionTolerance Sync="TRUE">0.01</DefaultCompressionTolerance>
<BlendWidth Sync="TRUE">10</BlendWidth>
<ViewpointSpacingX Sync="TRUE">600</ViewpointSpacingX>
<ViewpointSpacingY Sync="TRUE">300</ViewpointSpacingY>
<AllowedItemMetadata Sync="TRUE">Basic</AllowedItemMetadata>
<DefaultResamplingMethod Sync="TRUE">1</DefaultResamplingMethod>
<AllowedMosaicMethods Sync="TRUE">NorthWest,Center,LockRaster,ByAttribute,Nadir,Viewpoint,Seamline,None</AllowedMosaicMethods>
<AllowedCompressions Sync="TRUE">None,JPEG,LZ77,LERC</AllowedCompressions>
<AllowedMensurationCapabilities Sync="TRUE">None</AllowedMensurationCapabilities>
<AvailableMensurationCapabilities Sync="TRUE">None,Basic,Base-Top Height,Top-Top Shadow Height,Base-Top Shadow Height,3D</AvailableMensurationCapabilities>
<ClipToBoundary Sync="TRUE">-1</ClipToBoundary>
<FootprintMayContainNoData Sync="TRUE">-1</FootprintMayContainNoData>
<CellSizeTolerance Sync="TRUE">0.8</CellSizeTolerance>
<MinimumPixelContribution Sync="TRUE">1</MinimumPixelContribution>
<AvailableMosaicMethods Sync="TRUE">NorthWest,Center,LockRaster,ByAttribute,Nadir,Viewpoint,Seamline,None</AvailableMosaicMethods>
<AvailableCompressionMethods Sync="TRUE">None,JPEG,LZ77,LERC</AvailableCompressionMethods>
<AvailableItemMetadataLevels Sync="TRUE">None,Basic,Full</AvailableItemMetadataLevels>
<BandDefinitionKeyword Sync="TRUE">NaturalColor</BandDefinitionKeyword>
<AllowedFields Sync="TRUE">Name,MinPS,MaxPS,LowPS,HighPS,Tag,GroupName,ProductName,CenterX,CenterY,ZOrder,Shape_Length,Shape_Area</AllowedFields>
<MaxCellSize Sync="TRUE">5804.78399768419</MaxCellSize>
<LowCellSize Sync="TRUE">0.792506999976469</LowCellSize>
<HighCellSize Sync="TRUE">116.095679953684</HighCellSize>
<ApplyColorCorrection Sync="TRUE">0</ApplyColorCorrection>
<_docversion_ Sync="TRUE">10</_docversion_>
<DataType Sync="TRUE">Processed</DataType>
</Properties>
<Functions Sync="TRUE">
<Function Description="Performs on-the-fly mosaic on a raster catalog." Name="Mosaic Function"/>
</Functions>
</RasterProperties>
</DataProperties>
<SyncDate>20190816</SyncDate>
<SyncTime>11352100</SyncTime>
<ModDate>20190816</ModDate>
<ModTime>11352100</ModTime>
</Esri>
<dataIdInfo>
<envirDesc Sync="TRUE"> Version 6.2 (Build 9200) ; Esri ArcGIS 10.7.1.11595</envirDesc>
<dataLang>
<languageCode Sync="TRUE" value="eng"/>
<countryCode Sync="TRUE" value="USA"/>
</dataLang>
<idCitation>
<resTitle Sync="TRUE">Imagery_1998_WYG</resTitle>
<presForm>
<PresFormCd Sync="TRUE" value="005"/>
</presForm>
</idCitation>
<spatRpType>
<SpatRepTypCd Sync="TRUE" value="002"/>
</spatRpType>
<dataExt>
<geoEle>
<GeoBndBox esriExtentType="search">
<exTypeCode Sync="TRUE">1</exTypeCode>
<westBL Sync="TRUE">151.354855</westBL>
<eastBL Sync="TRUE">151.615586</eastBL>
<northBL Sync="TRUE">-33.115105</northBL>
<southBL Sync="TRUE">-33.416081</southBL>
</GeoBndBox>
</geoEle>
</dataExt>
<idAbs>1998 Aerial Imagery for Former Wyong LGA</idAbs>
<searchKeys>
<keyword>Aerial Imagery</keyword>
</searchKeys>
<idPurp>1998 Aerial Imagery for Former Wyong LGA</idPurp>
<idCredit>© 1998</idCredit>
<resConst>
<Consts>
<useLimit>© 1998</useLimit>
</Consts>
</resConst>
</dataIdInfo>
<mdLang>
<languageCode Sync="TRUE" value="eng"/>
<countryCode Sync="TRUE" value="USA"/>
</mdLang>
<refSysInfo>
<RefSystem>
<refSysID>
<identCode Sync="TRUE" code="28356"/>
<idCodeSpace Sync="TRUE">EPSG</idCodeSpace>
<idVersion Sync="TRUE">2.1(3.0.1)</idVersion>
</refSysID>
</RefSystem>
</refSysInfo>
<spatRepInfo>
<Georect>
<cellGeo>
<CellGeoCd Sync="TRUE" value="002"/>
</cellGeo>
<numDims Sync="TRUE">2</numDims>
<tranParaAv Sync="TRUE">1</tranParaAv>
<chkPtAv Sync="TRUE">0</chkPtAv>
<cornerPts>
<pos Sync="TRUE">347028.934299 6301722.384137</pos>
</cornerPts>
<cornerPts>
<pos Sync="TRUE">347028.934299 6334756.453417</pos>
</cornerPts>
<cornerPts>
<pos Sync="TRUE">370841.392128 6334756.453417</pos>
</cornerPts>
<cornerPts>
<pos Sync="TRUE">370841.392128 6301722.384137</pos>
</cornerPts>
<centerPt>
<pos Sync="TRUE">358935.163214 6318239.418777</pos>
</centerPt>
<axisDimension type="002">
<dimSize Sync="TRUE">30047</dimSize>
<dimResol>
<value Sync="TRUE" uom="m">0.792507</value>
</dimResol>
</axisDimension>
<axisDimension type="001">
<dimSize Sync="TRUE">41683</dimSize>
<dimResol>
<value Sync="TRUE" uom="m">0.792507</value>
</dimResol>
</axisDimension>
<ptInPixel>
<PixOrientCd Sync="TRUE" value="001"/>
</ptInPixel>
</Georect>
</spatRepInfo>
<contInfo>
<ImgDesc>
<contentTyp>
<ContentTypCd Sync="TRUE" value="001"/>
</contentTyp>
<covDim>
<Band>
<dimDescrp Sync="TRUE">Red</dimDescrp>
<maxVal Sync="TRUE">255.000000</maxVal>
<minVal Sync="TRUE">0.000000</minVal>
<bitsPerVal Sync="TRUE">8</bitsPerVal>
<valUnit>
<UOM type="length"/>
</valUnit>
</Band>
<Band>
<dimDescrp Sync="TRUE">Green</dimDescrp>
<maxVal Sync="TRUE">255.000000</maxVal>
<minVal Sync="TRUE">0.000000</minVal>
<bitsPerVal Sync="TRUE">8</bitsPerVal>
<valUnit>
<UOM type="length"/>
</valUnit>
</Band>
<Band>
<dimDescrp Sync="TRUE">Blue</dimDescrp>
<maxVal Sync="TRUE">255.000000</maxVal>
<minVal Sync="TRUE">0.000000</minVal>
<bitsPerVal Sync="TRUE">8</bitsPerVal>
<valUnit>
<UOM type="length"/>
</valUnit>
</Band>
</covDim>
</ImgDesc>
</contInfo>
<mdDateSt Sync="TRUE">20190816</mdDateSt>
</metadata>
